BEGIN:VCALENDAR
VERSION:2.0
PRODID:-//Tukios.com/
BEGIN:VEVENT
UID:b6f5b5cc-9934-4f2e-ad9d-cd1f8d17fa15@www.backstrom-pyeatte.com
DTSTAMP:20260421T182648Z
DTSTART:20260427T230000Z
DTEND:20260428T010000Z
SUMMARY:Visitation
DESCRIPTION:
URL:https://www.backstrom-pyeatte.com/obituaries/joanie-harrison
LOCATION: 1401 E Main St  Siloam Springs AR 72761
GEO:36.1820394;-94.5273741
END:VEVENT
END:VCALENDAR