BEGIN:VCALENDAR
VERSION:2.0
PRODID:-//Tukios.com/
BEGIN:VEVENT
UID:4901b578-ae47-4d2c-9490-dc96cb24ef0f@www.backstrom-pyeatte.com
DTSTAMP:20260421T182929Z
DTSTART:20260428T160000Z
DTEND:20260428T170000Z
SUMMARY:Graveside Service
DESCRIPTION:
URL:https://www.backstrom-pyeatte.com/obituaries/joanie-harrison
LOCATION: OK 59  Watts OK 74964
GEO:36.1082678;-94.5690234
END:VEVENT
END:VCALENDAR