BEGIN:VCALENDAR
VERSION:2.0
PRODID:-//Tukios.com/
BEGIN:VEVENT
UID:73f1c9c1-cbde-4317-b713-f9b3e706d53d@www.backstrom-pyeatte.com
DTSTAMP:20260420T173155Z
DTSTART:20260422T180000Z
DTEND:20260422T190000Z
SUMMARY:Funeral Service
DESCRIPTION:
URL:https://www.backstrom-pyeatte.com/obituaries/laney-carrell
LOCATION:Victory Assembly 1407 North Carl Street  Siloam Springs AR 72761
GEO:36.1959927;-94.5489441
END:VEVENT
END:VCALENDAR