BEGIN:VCALENDAR
VERSION:2.0
PRODID:-//Tukios.com/
BEGIN:VEVENT
UID:9f8e60c4-9dc5-4a83-9830-c3594df7c546@www.backstrom-pyeatte.com
DTSTAMP:20260421T005946Z
DTSTART:20260424T160000Z
DTEND:20260424T170000Z
SUMMARY:Visitation
DESCRIPTION:
URL:https://www.backstrom-pyeatte.com/obituaries/tripta-rani
LOCATION: 1401 E Main St  Siloam Springs AR 72761
GEO:36.1820394;-94.5273741
END:VEVENT
END:VCALENDAR