BEGIN:VCALENDAR
VERSION:2.0
PRODID:-//Tukios.com/
BEGIN:VEVENT
UID:7e44280d-91e6-43d4-af83-f505c0e07946@www.backstrom-pyeatte.com
DTSTAMP:20260421T005655Z
DTSTART:20260424T170000Z
DTEND:20260424T180000Z
SUMMARY:Funeral Service
DESCRIPTION:
URL:https://www.backstrom-pyeatte.com/obituaries/tripta-rani
LOCATION: 1401 E Main St  Siloam Springs AR 72761
GEO:36.1820394;-94.5273741
END:VEVENT
END:VCALENDAR